BEGIN:VCALENDAR
VERSION:2.0
PRODID:-//versbach.info - ECPv6.15.20//NONSGML v1.0//EN
CALSCALE:GREGORIAN
METHOD:PUBLISH
X-ORIGINAL-URL:https://versbach.info
X-WR-CALDESC:Veranstaltungen für versbach.info
REFRESH-INTERVAL;VALUE=DURATION:PT1H
X-Robots-Tag:noindex
X-PUBLISHED-TTL:PT1H
BEGIN:VTIMEZONE
TZID:Europe/Berlin
BEGIN:DAYLIGHT
TZOFFSETFROM:+0100
TZOFFSETTO:+0200
TZNAME:CEST
DTSTART:20240331T010000
END:DAYLIGHT
BEGIN:STANDARD
TZOFFSETFROM:+0200
TZOFFSETTO:+0100
TZNAME:CET
DTSTART:20241027T010000
END:STANDARD
BEGIN:DAYLIGHT
TZOFFSETFROM:+0100
TZOFFSETTO:+0200
TZNAME:CEST
DTSTART:20250330T010000
END:DAYLIGHT
BEGIN:STANDARD
TZOFFSETFROM:+0200
TZOFFSETTO:+0100
TZNAME:CET
DTSTART:20251026T010000
END:STANDARD
BEGIN:DAYLIGHT
TZOFFSETFROM:+0100
TZOFFSETTO:+0200
TZNAME:CEST
DTSTART:20260329T010000
END:DAYLIGHT
BEGIN:STANDARD
TZOFFSETFROM:+0200
TZOFFSETTO:+0100
TZNAME:CET
DTSTART:20261025T010000
END:STANDARD
END:VTIMEZONE
BEGIN:VEVENT
DTSTART;TZID=Europe/Berlin:20251125T100000
DTEND;TZID=Europe/Berlin:20251125T100000
DTSTAMP:20260421T211550
CREATED:20250629T131904Z
LAST-MODIFIED:20250629T132114Z
UID:2806-1764064800-1764064800@versbach.info
SUMMARY:Fit im digitalen Alltag - LernRaum für Senioren - Einzelsprechstunde
DESCRIPTION:Neben den Workshop-Terminen können Sie nach Voranmeldung  ebenso die Einzelsprechstunde (20 Minuten pro Person für je 2€) nutzen. \nTermine: 25.11.\, 09.12.25 zwischen 10-11 Uhr \nKontakt: Kerstin Hoebusch\, Tel: 0178/9701059\,\nQuartiersmanagement-Versbach@Awo-Unterfranken.de
URL:https://versbach.info/event/fit-im-digitalen-alltag-lernraum-fuer-senioren-einzelsprechstunde-25-11/
LOCATION:Haus des Bürgers\, Erwin-Wolf-Platz 1\, Würzburg\, 97078\, Deutschland
CATEGORIES:Senioren
ATTACH;FMTTYPE=image/png:https://versbach.info/wp-content/uploads/2025/04/fitimdigitalenalltag.png
ORGANIZER;CN="Quartiersarbeit Versbach":MAILTO:Quartiersmanagement-Versbach@awo-unterfranken.de
END:VEVENT
BEGIN:VEVENT
DTSTART;TZID=Europe/Berlin:20251125T150000
DTEND;TZID=Europe/Berlin:20251125T160000
DTSTAMP:20260421T211550
CREATED:20250507T121849Z
LAST-MODIFIED:20250507T121849Z
UID:2597-1764082800-1764086400@versbach.info
SUMMARY:Gemeinsamer Spaziergang
DESCRIPTION:Einladung zur neuen Spaziergruppe in Versbach \nJeden vierten Dienstag im Monat findet ein einstündiger Spaziergang zwischen 15 Uhr und 16 Uhr statt.\nLeitung: Gabi Engler mit Hund Avi \nTreffpunkt: Parkplatz am Nahkauf \nAktuelle Angaben zu unserem Programm finden Sie unter www.versbach.info\nAnsprechpartnerin: Kerstin Hoebusch\, Tel.: 0173-9701059\, Quartiersmanagement-Versbach@awo-unterfranken.de
URL:https://versbach.info/event/gemeinsamsamer-spaziergang-25-11/
LOCATION:Parkplatz Nahkauf\, St.-Rochus-Str. 36\, Würzburg\, 97078
CATEGORIES:Gesundheit & Sport
ATTACH;FMTTYPE=image/jpeg:https://versbach.info/wp-content/uploads/2024/06/spaziergang.jpg
ORGANIZER;CN="Quartiersarbeit Versbach":MAILTO:Quartiersmanagement-Versbach@awo-unterfranken.de
END:VEVENT
BEGIN:VEVENT
DTSTART;TZID=Europe/Berlin:20251125T160000
DTEND;TZID=Europe/Berlin:20251125T170000
DTSTAMP:20260421T211550
CREATED:20251102T130736Z
LAST-MODIFIED:20251102T130736Z
UID:2877-1764086400-1764090000@versbach.info
SUMMARY:Kreativwerkstatt für Kinder (9-12)
DESCRIPTION:Du bist zwischen 9 und 12 Jahren alt und tobst dich gerne kreativ aus? Dann ist unser neues Kreativangebot genau das Richtige für\nDich! \nWann: Dienstag\, 25.11.25\, 16.00 bis ca. 17.00 Uhr\nWo: Bürgerhaus Versbach\, Erwin-Wolf-Platz 1 \nWir basteln Magnete mit Glitzer-Nixen aus Holzwäscheklammern\, Papier und Strass\nSteinchen. Wer hat\, bitte Schere und Kleber mitbringen\, Materialbeitrag: 2\,50 €\nLeitung: Martina Stauß \nVorschau:\n16. Dezember: Glitzerkugeln gestalten \nBitte mit Anmeldung bis 4 Tage vor dem Termin über das Quartiersmanagement! \nAnsprechpartnerin: Kerstin Hoebusch\, Tel: 0173-9701059\nQuartiersmanagement-Versbach@awo-unterfranken.de
URL:https://versbach.info/event/kreativwerkstatt-fuer-kinder-25-11/
LOCATION:Haus des Bürgers\, Erwin-Wolf-Platz 1\, Würzburg\, 97078\, Deutschland
CATEGORIES:Kinder,Kreatives, Basteln & Handwerk
ATTACH;FMTTYPE=image/png:https://versbach.info/wp-content/uploads/2025/08/kreativwerkstatt-25-11-logo.png
ORGANIZER;CN="Quartiersarbeit Versbach":MAILTO:Quartiersmanagement-Versbach@awo-unterfranken.de
END:VEVENT
BEGIN:VEVENT
DTSTART;TZID=Europe/Berlin:20251125T170000
DTEND;TZID=Europe/Berlin:20251125T190000
DTSTAMP:20260421T211550
CREATED:20250928T191702Z
LAST-MODIFIED:20250928T191702Z
UID:2974-1764090000-1764097200@versbach.info
SUMMARY:Maltreff
DESCRIPTION:Sie zeichnen oder malen leidenschaftlich gerne? Sie möchten erkunden und entdecken\, mit Farben und Formen spielen\, Fantasie und Humor einbringen? Dann kommen Sie gerne zum MALTREFF\nund genießen die Zeit in der offenen Gruppe\, um sich gegenseitig zu inspirieren. \nGeeignet für alle – Anfänger und Fortgeschrittene! \nWann und wo?\nAm vierten Dienstag im Monat im AWO Treff\, Bürgerhaus Versbach\nNächste Termine: 25.11.\, jeweils 17 bis 19 Uhr \nAnmeldung bitte jeweils 3 Tage vorher!\nMitzubringen: Eigenes Material\, Unterlage \nVeranstaltungsort: Haus des Bürgers\, Erwin-Wolf-Platz 1\, 97078 Würzburg \nAnsprechpartnerin: Kerstin Hoebusch\, Tel.: 0173-9701059\nQuartiersmanagement-Versbach@awo-unterfranken.de
URL:https://versbach.info/event/maltreff-25-11/
LOCATION:Haus des Bürgers\, Erwin-Wolf-Platz 1\, Würzburg\, 97078\, Deutschland
CATEGORIES:Kreatives, Basteln & Handwerk
ATTACH;FMTTYPE=image/png:https://versbach.info/wp-content/uploads/2025/09/maltreff-logo.png
ORGANIZER;CN="Quartiersarbeit Versbach":MAILTO:Quartiersmanagement-Versbach@awo-unterfranken.de
END:VEVENT
END:VCALENDAR